BEGIN:VCALENDAR
VERSION:2.0
PRODID:-//https://sa.raeme.org.au///NONSGML kigkonsult.se iCalcreator 2.10.15//
METHOD:PUBLISH
BEGIN:VEVENT
UID:20260424T140243AEST-3065opKukl@https://sa.raeme.org.au/
DTSTAMP:20260424T040243Z
DESCRIPTION:RAEME Assn of SA 2021 AGM and RAEME Birthday Lunch\nSave the da
 te – Sunday 28 November (10.00 am AGM and RAEME Birthday Lunch 12.00)\nLoc
 ation - Cooper Alehouse Gepps Cross\n560 Main North Road\nBlair Athol\nFAM
 ILY AND FRIENDS WELCOME\nCatch up with mates and enjoy a meal and a beer.
 \nThe hotel have a range of A La Carte meals at various prices\nCentral Re
 gion “RAEME Soldier of the Year” Awards to be announced.\nDrinks at Bar pr
 ices https://sa.raeme.org.au/index.php/notices/events/event/35-raeme-assn-
 of-sa-2021-agm-and-raeme-birthday-lunch
DTSTART:20210909T012534Z
DTEND:20211129T022534Z
LOCATION:Coopers Alehouse Gepps Cross  (Coopers Alehouse 560 Main North Roa
 d Blair Athol SA 5084)
SUMMARY:RAEME Assn of SA 2021 AGM and RAEME Birthday Lunch
URL:https://sa.raeme.org.au/index.php/notices/events/event/35-raeme-assn-of
 -sa-2021-agm-and-raeme-birthday-lunch
END:VEVENT
END:VCALENDAR
